BEGIN:VCALENDAR
VERSION:2.0
PRODID:-//gillettevac.com//NONSGML kigkonsult.se iCalcreator 2.30.10//
CALSCALE:GREGORIAN
METHOD:PUBLISH
UID:a0a640a9-7e78-4f45-a422-50c9e477d293
X-WR-CALDESC:
X-WR-RELCALID:1604b42fd6273a6a531c8bcf6e45963e
X-WR-TIMEZONE:America/Chicago
BEGIN:VTIMEZONE
TZID:America/Chicago
BEGIN:STANDARD
TZNAME:CST
DTSTART:20231105T020000
TZOFFSETFROM:-0500
TZOFFSETTO:-0600
RDATE:20241103T020000
RDATE:20251102T020000
END:STANDARD
BEGIN:DAYLIGHT
TZNAME:CDT
DTSTART:20240310T020000
TZOFFSETFROM:-0600
TZOFFSETTO:-0500
RDATE:20250309T020000
RDATE:20260308T020000
END:DAYLIGHT
END:VTIMEZONE
BEGIN:VEVENT
UID:c070e243-4949-42ee-907d-72090719f521
DTSTAMP:20260423T081350Z
DESCRIPTION:
DTSTART;TZID=America/Chicago:20241103T000000
DTEND;TZID=America/Chicago:20241103T235900
LOCATION:
SUMMARY:Happy Birthday Brenda!
END:VEVENT
END:VCALENDAR
