BEGIN:VCALENDAR
VERSION:2.0
PRODID:-//gillettevac.com//NONSGML kigkonsult.se iCalcreator 2.30.10//
CALSCALE:GREGORIAN
METHOD:PUBLISH
UID:d97b330b-9a5f-4eda-a639-fa0cd42ed0fb
X-WR-CALDESC:
X-WR-RELCALID:da5a10014797e4579aca11dfbdae482f
X-WR-TIMEZONE:America/Chicago
BEGIN:VTIMEZONE
TZID:America/Chicago
BEGIN:STANDARD
TZNAME:CST
DTSTART:20241103T020000
TZOFFSETFROM:-0500
TZOFFSETTO:-0600
RDATE:20251102T020000
END:STANDARD
BEGIN:DAYLIGHT
TZNAME:CDT
DTSTART:20240310T020000
TZOFFSETFROM:-0600
TZOFFSETTO:-0500
RDATE:20250309T020000
RDATE:20260308T020000
END:DAYLIGHT
END:VTIMEZONE
BEGIN:VEVENT
UID:18f1ad11-b000-4c62-a48d-9f498e16115b
DTSTAMP:20260423T121500Z
DESCRIPTION:
DTSTART;TZID=America/Chicago:20241113T000000
DTEND;TZID=America/Chicago:20241113T235900
LOCATION:
SUMMARY:Happy Birthday Faron!
END:VEVENT
END:VCALENDAR
