BEGIN:VCALENDAR
VERSION:2.0
PRODID:-//gillettevac.com//NONSGML kigkonsult.se iCalcreator 2.30.10//
CALSCALE:GREGORIAN
METHOD:PUBLISH
UID:7f279a2e-a202-4614-814c-8bfb490ca760
X-WR-CALDESC:
X-WR-RELCALID:5b97162febbcc71fca97983cfaae3405
X-WR-TIMEZONE:America/Chicago
BEGIN:VTIMEZONE
TZID:America/Chicago
BEGIN:STANDARD
TZNAME:CST
DTSTART:20251102T020000
TZOFFSETFROM:-0500
TZOFFSETTO:-0600
RDATE:20261101T020000
END:STANDARD
BEGIN:DAYLIGHT
TZNAME:CDT
DTSTART:20250309T020000
TZOFFSETFROM:-0600
TZOFFSETTO:-0500
RDATE:20260308T020000
RDATE:20270314T020000
END:DAYLIGHT
END:VTIMEZONE
BEGIN:VEVENT
UID:657717eb-dfa2-4b66-8310-c53bedda503e
DTSTAMP:20260421T191425Z
DESCRIPTION:
DTSTART;TZID=America/Chicago:20251108T050000
DTEND;TZID=America/Chicago:20251108T050001
LOCATION:
SUMMARY:Carrie M Staff Anniversary
END:VEVENT
END:VCALENDAR
