BEGIN:VCALENDAR
VERSION:2.0
PRODID:-//gillettevac.com//NONSGML kigkonsult.se iCalcreator 2.30.10//
CALSCALE:GREGORIAN
METHOD:PUBLISH
UID:691a588c-2a62-471b-a26d-57e8d9fe2177
X-WR-CALDESC:
X-WR-RELCALID:34963f93b0e23a967cc42ed2f318780a
X-WR-TIMEZONE:America/Chicago
BEGIN:VTIMEZONE
TZID:America/Chicago
BEGIN:STANDARD
TZNAME:CST
DTSTART:20251102T020000
TZOFFSETFROM:-0500
TZOFFSETTO:-0600
RDATE:20261101T020000
END:STANDARD
BEGIN:DAYLIGHT
TZNAME:CDT
DTSTART:20250309T020000
TZOFFSETFROM:-0600
TZOFFSETTO:-0500
RDATE:20260308T020000
RDATE:20270314T020000
END:DAYLIGHT
END:VTIMEZONE
BEGIN:VEVENT
UID:029009b5-3133-454a-b77b-92d50646ef4c
DTSTAMP:20260421T190118Z
DESCRIPTION:
DTSTART;TZID=America/Chicago:20251121T050000
DTEND;TZID=America/Chicago:20251121T050001
LOCATION:
SUMMARY:Happy Birthday Destiny R!
END:VEVENT
END:VCALENDAR
