BEGIN:VCALENDAR
VERSION:2.0
PRODID:-//gillettevac.com//NONSGML kigkonsult.se iCalcreator 2.30.10//
CALSCALE:GREGORIAN
METHOD:PUBLISH
UID:eaa27b03-dc73-45df-a946-074713f58b20
X-WR-CALDESC:
X-WR-RELCALID:ac18d0ca4c2cf7ebd0f45afb96e535c4
X-WR-TIMEZONE:America/Chicago
BEGIN:VTIMEZONE
TZID:America/Chicago
BEGIN:STANDARD
TZNAME:CST
DTSTART:20251102T020000
TZOFFSETFROM:-0500
TZOFFSETTO:-0600
RDATE:20261101T020000
END:STANDARD
BEGIN:DAYLIGHT
TZNAME:CDT
DTSTART:20250309T020000
TZOFFSETFROM:-0600
TZOFFSETTO:-0500
RDATE:20260308T020000
RDATE:20270314T020000
END:DAYLIGHT
END:VTIMEZONE
BEGIN:VEVENT
UID:af9956af-56a1-48b6-8741-7e51db89a2c8
DTSTAMP:20260421T174040Z
DESCRIPTION:
DTSTART;TZID=America/Chicago:20251205T050000
DTEND;TZID=America/Chicago:20251205T050001
LOCATION:
SUMMARY:Carissa P Staff Anniversary!
END:VEVENT
END:VCALENDAR
