BEGIN:VCALENDAR
VERSION:2.0
PRODID:-//gillettevac.com//NONSGML kigkonsult.se iCalcreator 2.30.10//
CALSCALE:GREGORIAN
METHOD:PUBLISH
UID:84506add-b494-4aef-aad4-4f3ef27f88ca
X-WR-CALDESC:
X-WR-RELCALID:28f15a821c268b51e55ea7d0f7d51857
X-WR-TIMEZONE:America/Chicago
BEGIN:VTIMEZONE
TZID:America/Chicago
BEGIN:STANDARD
TZNAME:CST
DTSTART:20251102T020000
TZOFFSETFROM:-0500
TZOFFSETTO:-0600
RDATE:20261101T020000
END:STANDARD
BEGIN:DAYLIGHT
TZNAME:CDT
DTSTART:20250309T020000
TZOFFSETFROM:-0600
TZOFFSETTO:-0500
RDATE:20260308T020000
RDATE:20270314T020000
END:DAYLIGHT
END:VTIMEZONE
BEGIN:VEVENT
UID:74bbe756-9b0b-4b18-a185-99cb3002454a
DTSTAMP:20260421T172724Z
DESCRIPTION:
DTSTART;TZID=America/Chicago:20251216T000000
DTEND;TZID=America/Chicago:20251216T235900
LOCATION:
SUMMARY:Happy Birthday Alan!
END:VEVENT
END:VCALENDAR
