BEGIN:VCALENDAR
VERSION:2.0
PRODID:-//gillettevac.com//NONSGML kigkonsult.se iCalcreator 2.30.10//
CALSCALE:GREGORIAN
METHOD:PUBLISH
UID:ff0666e8-c417-4c1d-b414-96f8d7a9b521
X-WR-CALDESC:
X-WR-RELCALID:247221aac0a61a0fafe888e719906c6e
X-WR-TIMEZONE:America/Chicago
BEGIN:VTIMEZONE
TZID:America/Chicago
BEGIN:STANDARD
TZNAME:CST
DTSTART:20251102T020000
TZOFFSETFROM:-0500
TZOFFSETTO:-0600
RDATE:20261101T020000
END:STANDARD
BEGIN:DAYLIGHT
TZNAME:CDT
DTSTART:20250309T020000
TZOFFSETFROM:-0600
TZOFFSETTO:-0500
RDATE:20260308T020000
RDATE:20270314T020000
END:DAYLIGHT
END:VTIMEZONE
BEGIN:VEVENT
UID:4145abe1-9738-4c99-8fe8-f69a166278b8
DTSTAMP:20260421T185350Z
DESCRIPTION:
DTSTART;TZID=America/Chicago:20251219T050000
DTEND;TZID=America/Chicago:20251219T050001
LOCATION:
SUMMARY:Haley G Advocate Anniversary!
END:VEVENT
END:VCALENDAR
