BEGIN:VCALENDAR
VERSION:2.0
PRODID:-//gillettevac.com//NONSGML kigkonsult.se iCalcreator 2.30.10//
CALSCALE:GREGORIAN
METHOD:PUBLISH
UID:f8533cfd-9755-41f0-88cb-23c74d7c7efa
X-WR-CALDESC:
X-WR-RELCALID:8531145cf7235c6efd54404c3557b878
X-WR-TIMEZONE:America/Chicago
BEGIN:VTIMEZONE
TZID:America/Chicago
BEGIN:STANDARD
TZNAME:CST
DTSTART:20251102T020000
TZOFFSETFROM:-0500
TZOFFSETTO:-0600
RDATE:20261101T020000
END:STANDARD
BEGIN:DAYLIGHT
TZNAME:CDT
DTSTART:20250309T020000
TZOFFSETFROM:-0600
TZOFFSETTO:-0500
RDATE:20260308T020000
RDATE:20270314T020000
END:DAYLIGHT
END:VTIMEZONE
BEGIN:VEVENT
UID:9fd8f3c5-2974-4999-8a27-ddd5f2952bcf
DTSTAMP:20260421T172221Z
DESCRIPTION:
DTSTART;TZID=America/Chicago:20251224T000000
DTEND;TZID=America/Chicago:20251224T235900
LOCATION:
SUMMARY:Christmas Eve- VAC Closed
END:VEVENT
END:VCALENDAR
