BEGIN:VCALENDAR
VERSION:2.0
PRODID:-//gillettevac.com//NONSGML kigkonsult.se iCalcreator 2.30.10//
CALSCALE:GREGORIAN
METHOD:PUBLISH
UID:2539ad88-6caf-4587-b22f-a872bd255e85
X-WR-CALDESC:
X-WR-RELCALID:78c415f1ce82a2616f08855399bd522a
X-WR-TIMEZONE:America/Chicago
BEGIN:VTIMEZONE
TZID:America/Chicago
BEGIN:STANDARD
TZNAME:CST
DTSTART:20251102T020000
TZOFFSETFROM:-0500
TZOFFSETTO:-0600
RDATE:20261101T020000
END:STANDARD
BEGIN:DAYLIGHT
TZNAME:CDT
DTSTART:20250309T020000
TZOFFSETFROM:-0600
TZOFFSETTO:-0500
RDATE:20260308T020000
RDATE:20270314T020000
END:DAYLIGHT
END:VTIMEZONE
BEGIN:VEVENT
UID:16f0051b-e21d-4c50-a747-700ea6683347
DTSTAMP:20260421T171713Z
DESCRIPTION:
DTSTART;TZID=America/Chicago:20251231T050000
DTEND;TZID=America/Chicago:20251231T050001
LOCATION:
SUMMARY:Happy Birthday Carrie M!
END:VEVENT
END:VCALENDAR
