BEGIN:VCALENDAR
VERSION:2.0
PRODID:-//gillettevac.com//NONSGML kigkonsult.se iCalcreator 2.30.10//
CALSCALE:GREGORIAN
METHOD:PUBLISH
UID:523d250e-ffae-4f20-86ac-69da9cc36cbb
X-WR-CALDESC:
X-WR-RELCALID:c691baa8471a85e38cecdbfaac1c486f
X-WR-TIMEZONE:America/Chicago
BEGIN:VTIMEZONE
TZID:America/Chicago
BEGIN:STANDARD
TZNAME:CST
DTSTART:20251102T020000
TZOFFSETFROM:-0500
TZOFFSETTO:-0600
RDATE:20261101T020000
END:STANDARD
BEGIN:DAYLIGHT
TZNAME:CDT
DTSTART:20250309T020000
TZOFFSETFROM:-0600
TZOFFSETTO:-0500
RDATE:20260308T020000
RDATE:20270314T020000
END:DAYLIGHT
END:VTIMEZONE
BEGIN:VEVENT
UID:1999554a-781e-48fa-82ae-b0db7068b324
DTSTAMP:20260421T162200Z
DESCRIPTION:
DTSTART;TZID=America/Chicago:20260110T050000
DTEND;TZID=America/Chicago:20260110T050001
LOCATION:
SUMMARY:Happy Birthday Risty B!
END:VEVENT
END:VCALENDAR
