BEGIN:VCALENDAR
VERSION:2.0
PRODID:-//gillettevac.com//NONSGML kigkonsult.se iCalcreator 2.30.10//
CALSCALE:GREGORIAN
METHOD:PUBLISH
UID:372ba93a-b45f-457a-8de5-abd81fbf990d
X-WR-CALDESC:
X-WR-RELCALID:9998168c1e40dd5df35a9f2ff2aef3c2
X-WR-TIMEZONE:America/Chicago
BEGIN:VTIMEZONE
TZID:America/Chicago
BEGIN:STANDARD
TZNAME:CST
DTSTART:20251102T020000
TZOFFSETFROM:-0500
TZOFFSETTO:-0600
RDATE:20261101T020000
END:STANDARD
BEGIN:DAYLIGHT
TZNAME:CDT
DTSTART:20250309T020000
TZOFFSETFROM:-0600
TZOFFSETTO:-0500
RDATE:20260308T020000
RDATE:20270314T020000
END:DAYLIGHT
END:VTIMEZONE
BEGIN:VEVENT
UID:a8c08d15-4112-4514-b144-6d7afd4a0f62
DTSTAMP:20260421T173316Z
DESCRIPTION:
DTSTART;TZID=America/Chicago:20260114T050000
DTEND;TZID=America/Chicago:20260114T050001
LOCATION:
SUMMARY:Karen L Advocate Anniversary
END:VEVENT
END:VCALENDAR
