BEGIN:VCALENDAR
VERSION:2.0
PRODID:-//gillettevac.com//NONSGML kigkonsult.se iCalcreator 2.30.10//
CALSCALE:GREGORIAN
METHOD:PUBLISH
UID:d30f7624-fc63-4382-9469-2b1aaf8d807b
X-WR-CALDESC:
X-WR-RELCALID:ab28c9853d538e60f23e104254aba321
X-WR-TIMEZONE:America/Chicago
BEGIN:VTIMEZONE
TZID:America/Chicago
BEGIN:STANDARD
TZNAME:CST
DTSTART:20251102T020000
TZOFFSETFROM:-0500
TZOFFSETTO:-0600
RDATE:20261101T020000
END:STANDARD
BEGIN:DAYLIGHT
TZNAME:CDT
DTSTART:20250309T020000
TZOFFSETFROM:-0600
TZOFFSETTO:-0500
RDATE:20260308T020000
RDATE:20270314T020000
END:DAYLIGHT
END:VTIMEZONE
BEGIN:VEVENT
UID:86927d29-9794-46d3-b760-ac4291900a19
DTSTAMP:20260421T144256Z
DESCRIPTION:
DTSTART;TZID=America/Chicago:20260210T050000
DTEND;TZID=America/Chicago:20260210T050001
LOCATION:
SUMMARY:Daniel K Advocate Anniversary!
END:VEVENT
END:VCALENDAR
