BEGIN:VCALENDAR
VERSION:2.0
PRODID:-//gillettevac.com//NONSGML kigkonsult.se iCalcreator 2.30.10//
CALSCALE:GREGORIAN
METHOD:PUBLISH
UID:8fb4874a-0b7f-4315-97a5-841b7446e6fe
X-WR-CALDESC:
X-WR-RELCALID:a44ebb40cb0c389bc604dc818712ea11
X-WR-TIMEZONE:America/Chicago
BEGIN:VTIMEZONE
TZID:America/Chicago
BEGIN:STANDARD
TZNAME:CST
DTSTART:20251102T020000
TZOFFSETFROM:-0500
TZOFFSETTO:-0600
RDATE:20261101T020000
END:STANDARD
BEGIN:DAYLIGHT
TZNAME:CDT
DTSTART:20250309T020000
TZOFFSETFROM:-0600
TZOFFSETTO:-0500
RDATE:20260308T020000
RDATE:20270314T020000
END:DAYLIGHT
END:VTIMEZONE
BEGIN:VEVENT
UID:7c0dbe5e-56a0-4de5-ab11-a900489edd3a
DTSTAMP:20260421T144355Z
DESCRIPTION:
DTSTART;TZID=America/Chicago:20260214T000000
DTEND;TZID=America/Chicago:20260214T235900
LOCATION:
SUMMARY:Valentine's Day
END:VEVENT
END:VCALENDAR
