BEGIN:VCALENDAR
VERSION:2.0
PRODID:-//gillettevac.com//NONSGML kigkonsult.se iCalcreator 2.30.10//
CALSCALE:GREGORIAN
METHOD:PUBLISH
UID:b0d6d150-d230-4073-af8a-028f8a897e06
X-WR-CALDESC:
X-WR-RELCALID:36fcc8e288a6fb68d423de80c7ce2c14
X-WR-TIMEZONE:America/Chicago
BEGIN:VTIMEZONE
TZID:America/Chicago
BEGIN:STANDARD
TZNAME:CST
DTSTART:20251102T020000
TZOFFSETFROM:-0500
TZOFFSETTO:-0600
RDATE:20261101T020000
END:STANDARD
BEGIN:DAYLIGHT
TZNAME:CDT
DTSTART:20250309T020000
TZOFFSETFROM:-0600
TZOFFSETTO:-0500
RDATE:20260308T020000
RDATE:20270314T020000
END:DAYLIGHT
END:VTIMEZONE
BEGIN:VEVENT
UID:d38d12b9-eba8-4399-9318-a3b089c49f76
DTSTAMP:20260421T151639Z
DESCRIPTION:
DTSTART;TZID=America/Chicago:20260220T000000
DTEND;TZID=America/Chicago:20260220T235900
LOCATION:
SUMMARY:Sawley Birthday!!
END:VEVENT
END:VCALENDAR
