BEGIN:VCALENDAR
VERSION:2.0
PRODID:-//gillettevac.com//NONSGML kigkonsult.se iCalcreator 2.30.10//
CALSCALE:GREGORIAN
METHOD:PUBLISH
UID:cbed1996-e543-4565-8049-de289641ea74
X-WR-CALDESC:
X-WR-RELCALID:39242ae79fad4d8fe5ce3c2468ca1c7f
X-WR-TIMEZONE:America/Denver
BEGIN:VTIMEZONE
TZID:America/Denver
BEGIN:STANDARD
TZNAME:MST
DTSTART:20251102T020000
TZOFFSETFROM:-0600
TZOFFSETTO:-0700
RDATE:20261101T020000
END:STANDARD
BEGIN:DAYLIGHT
TZNAME:MDT
DTSTART:20250309T020000
TZOFFSETFROM:-0700
TZOFFSETTO:-0600
RDATE:20260308T020000
RDATE:20270314T020000
END:DAYLIGHT
END:VTIMEZONE
BEGIN:VEVENT
UID:ed526b14-4fa0-45dc-96c6-4cb639e66745
DTSTAMP:20260421T125159Z
DESCRIPTION:
DTSTART;TZID=America/Denver:20260301T040000
DTEND;TZID=America/Denver:20260301T040001
LOCATION:
SUMMARY:Tyler P Advocate Anniversary
END:VEVENT
END:VCALENDAR
