BEGIN:VCALENDAR
VERSION:2.0
PRODID:-//gillettevac.com//NONSGML kigkonsult.se iCalcreator 2.30.10//
CALSCALE:GREGORIAN
METHOD:PUBLISH
UID:bdbadd64-5602-4cf0-919c-93fcd44f3d3c
X-WR-CALDESC:
X-WR-RELCALID:b9bd5bfee4e758158b70a2778e6d4648
X-WR-TIMEZONE:America/Chicago
BEGIN:VTIMEZONE
TZID:America/Chicago
BEGIN:STANDARD
TZNAME:CST
DTSTART:20251102T020000
TZOFFSETFROM:-0500
TZOFFSETTO:-0600
RDATE:20261101T020000
END:STANDARD
BEGIN:DAYLIGHT
TZNAME:CDT
DTSTART:20250309T020000
TZOFFSETFROM:-0600
TZOFFSETTO:-0500
RDATE:20260308T020000
RDATE:20270314T020000
END:DAYLIGHT
END:VTIMEZONE
BEGIN:VEVENT
UID:efe486b6-bcdc-4d71-9f64-b92ef735f10b
DTSTAMP:20260421T130400Z
DESCRIPTION:
DTSTART;TZID=America/Chicago:20260305T050000
DTEND;TZID=America/Chicago:20260305T050001
LOCATION:
SUMMARY:Happy Birthday Paul Y!
END:VEVENT
END:VCALENDAR
