BEGIN:VCALENDAR
VERSION:2.0
PRODID:-//gillettevac.com//NONSGML kigkonsult.se iCalcreator 2.30.10//
CALSCALE:GREGORIAN
METHOD:PUBLISH
UID:71b8e1b9-8901-42fa-b9ae-876238603aa0
X-WR-CALDESC:
X-WR-RELCALID:a29a69eab6730959563440295c2afd7c
X-WR-TIMEZONE:America/Chicago
BEGIN:VTIMEZONE
TZID:America/Chicago
BEGIN:STANDARD
TZNAME:CST
DTSTART:20251102T020000
TZOFFSETFROM:-0500
TZOFFSETTO:-0600
RDATE:20261101T020000
END:STANDARD
BEGIN:DAYLIGHT
TZNAME:CDT
DTSTART:20260308T020000
TZOFFSETFROM:-0600
TZOFFSETTO:-0500
RDATE:20270314T020000
END:DAYLIGHT
END:VTIMEZONE
BEGIN:VEVENT
UID:578f8375-31ae-4438-b0bb-17bd916b09b0
DTSTAMP:20260421T125159Z
DESCRIPTION:
DTSTART;TZID=America/Chicago:20260314T050000
DTEND;TZID=America/Chicago:20260314T050001
LOCATION:
SUMMARY:Carolyn S Advocate Anniversary
END:VEVENT
END:VCALENDAR
