BEGIN:VCALENDAR
VERSION:2.0
PRODID:-//gillettevac.com//NONSGML kigkonsult.se iCalcreator 2.30.10//
CALSCALE:GREGORIAN
METHOD:PUBLISH
UID:9fa3e86e-2b46-4915-a5b6-db9aa38c8365
X-WR-CALDESC:
X-WR-RELCALID:25f221b176381004e12de45a6aefab39
X-WR-TIMEZONE:America/Chicago
BEGIN:VTIMEZONE
TZID:America/Chicago
BEGIN:STANDARD
TZNAME:CST
DTSTART:20251102T020000
TZOFFSETFROM:-0500
TZOFFSETTO:-0600
RDATE:20261101T020000
END:STANDARD
BEGIN:DAYLIGHT
TZNAME:CDT
DTSTART:20260308T020000
TZOFFSETFROM:-0600
TZOFFSETTO:-0500
RDATE:20270314T020000
END:DAYLIGHT
END:VTIMEZONE
BEGIN:VEVENT
UID:061e907e-334f-4a5a-b72c-8a18b4e2bc65
DTSTAMP:20260421T125638Z
DESCRIPTION:
DTSTART;TZID=America/Chicago:20260314T050000
DTEND;TZID=America/Chicago:20260314T050001
LOCATION:
SUMMARY:Regina H Advocate Anniversary
END:VEVENT
END:VCALENDAR
