BEGIN:VCALENDAR
VERSION:2.0
PRODID:-//gillettevac.com//NONSGML kigkonsult.se iCalcreator 2.30.10//
CALSCALE:GREGORIAN
METHOD:PUBLISH
UID:959c2547-0864-4fcc-a746-86fb5186dc25
X-WR-CALDESC:
X-WR-RELCALID:d7678f6d3573c17c2605865b819d1a03
X-WR-TIMEZONE:America/Chicago
BEGIN:VTIMEZONE
TZID:America/Chicago
BEGIN:STANDARD
TZNAME:CST
DTSTART:20251102T020000
TZOFFSETFROM:-0500
TZOFFSETTO:-0600
RDATE:20261101T020000
END:STANDARD
BEGIN:DAYLIGHT
TZNAME:CDT
DTSTART:20260308T020000
TZOFFSETFROM:-0600
TZOFFSETTO:-0500
RDATE:20270314T020000
END:DAYLIGHT
END:VTIMEZONE
BEGIN:VEVENT
UID:449cae70-0f2b-46a4-a84a-9431fdc298f8
DTSTAMP:20260421T124730Z
DESCRIPTION:
DTSTART;TZID=America/Chicago:20260319T050000
DTEND;TZID=America/Chicago:20260319T050001
LOCATION:
SUMMARY:Happy Birthday Haley G
END:VEVENT
END:VCALENDAR
