BEGIN:VCALENDAR
VERSION:2.0
PRODID:-//gillettevac.com//NONSGML kigkonsult.se iCalcreator 2.30.10//
CALSCALE:GREGORIAN
METHOD:PUBLISH
UID:ec208b4d-a34b-48c7-b306-b91a6cca7895
X-WR-CALDESC:
X-WR-RELCALID:391d79abf9b6c8b643508e3b1d97c0ef
X-WR-TIMEZONE:America/Chicago
BEGIN:VTIMEZONE
TZID:America/Chicago
BEGIN:STANDARD
TZNAME:CST
DTSTART:20251102T020000
TZOFFSETFROM:-0500
TZOFFSETTO:-0600
RDATE:20261101T020000
END:STANDARD
BEGIN:DAYLIGHT
TZNAME:CDT
DTSTART:20260308T020000
TZOFFSETFROM:-0600
TZOFFSETTO:-0500
RDATE:20270314T020000
END:DAYLIGHT
END:VTIMEZONE
BEGIN:VEVENT
UID:eeb55031-32e1-4436-b342-d2ef5ec17b75
DTSTAMP:20260421T130545Z
DESCRIPTION:
DTSTART;TZID=America/Chicago:20260328T050000
DTEND;TZID=America/Chicago:20260328T050001
LOCATION:
SUMMARY:Natasha T Advocate Anniversary!
END:VEVENT
END:VCALENDAR
