BEGIN:VCALENDAR
VERSION:2.0
PRODID:-//gillettevac.com//NONSGML kigkonsult.se iCalcreator 2.30.10//
CALSCALE:GREGORIAN
METHOD:PUBLISH
UID:a3f095f4-8d57-4c4c-a605-e4ff73854b6a
X-WR-CALDESC:
X-WR-RELCALID:2b1b0d26287b2ec992797081aef8b1cb
X-WR-TIMEZONE:America/Denver
BEGIN:VTIMEZONE
TZID:America/Denver
BEGIN:STANDARD
TZNAME:MST
DTSTART:20251102T020000
TZOFFSETFROM:-0600
TZOFFSETTO:-0700
RDATE:20261101T020000
END:STANDARD
BEGIN:DAYLIGHT
TZNAME:MDT
DTSTART:20260308T020000
TZOFFSETFROM:-0700
TZOFFSETTO:-0600
RDATE:20270314T020000
END:DAYLIGHT
END:VTIMEZONE
BEGIN:VEVENT
UID:b12bf89c-4a9c-4bfe-a396-0dd4d73a003a
DTSTAMP:20260421T131159Z
DESCRIPTION:
DTSTART;TZID=America/Denver:20260330T040000
DTEND;TZID=America/Denver:20260330T040001
LOCATION:
SUMMARY:Happy Birthday Hoby B!
END:VEVENT
END:VCALENDAR
