BEGIN:VCALENDAR
VERSION:2.0
PRODID:-//gillettevac.com//NONSGML kigkonsult.se iCalcreator 2.30.10//
CALSCALE:GREGORIAN
METHOD:PUBLISH
UID:a80cb7ec-4a8c-4fa8-8b76-678a3e46cf8d
X-WR-CALDESC:
X-WR-RELCALID:87271fb716b049d0a173fbbd5aede6a7
X-WR-TIMEZONE:America/Chicago
BEGIN:VTIMEZONE
TZID:America/Chicago
BEGIN:STANDARD
TZNAME:CST
DTSTART:20251102T020000
TZOFFSETFROM:-0500
TZOFFSETTO:-0600
RDATE:20261101T020000
RDATE:20271107T020000
END:STANDARD
BEGIN:DAYLIGHT
TZNAME:CDT
DTSTART:20260308T020000
TZOFFSETFROM:-0600
TZOFFSETTO:-0500
RDATE:20270314T020000
END:DAYLIGHT
END:VTIMEZONE
BEGIN:VEVENT
UID:8f99d2b8-5c54-4a48-a811-cd2afe13bc26
DTSTAMP:20260423T202606Z
DESCRIPTION:
DTSTART;TZID=America/Chicago:20260602T050000
DTEND;TZID=America/Chicago:20260606T050001
LOCATION:
SUMMARY:Happy Birthday Arrow L!
END:VEVENT
END:VCALENDAR
