BEGIN:VCALENDAR
VERSION:2.0
PRODID:-//gillettevac.com//NONSGML kigkonsult.se iCalcreator 2.30.10//
CALSCALE:GREGORIAN
METHOD:PUBLISH
UID:2d47dddb-4f4c-4e28-bc88-df651d22d155
X-WR-CALDESC:
X-WR-RELCALID:668240c4899457e74f9657fa55cc59d0
X-WR-TIMEZONE:America/Chicago
BEGIN:VTIMEZONE
TZID:America/Chicago
BEGIN:STANDARD
TZNAME:CST
DTSTART:20251102T020000
TZOFFSETFROM:-0500
TZOFFSETTO:-0600
RDATE:20261101T020000
RDATE:20271107T020000
END:STANDARD
BEGIN:DAYLIGHT
TZNAME:CDT
DTSTART:20260308T020000
TZOFFSETFROM:-0600
TZOFFSETTO:-0500
RDATE:20270314T020000
END:DAYLIGHT
END:VTIMEZONE
BEGIN:VEVENT
UID:d4d996dd-f0ee-4b30-97e8-9212a2f7e89d
DTSTAMP:20260423T125504Z
DESCRIPTION:
DTSTART;TZID=America/Chicago:20260628T050000
DTEND;TZID=America/Chicago:20260628T050001
LOCATION:
SUMMARY:Tori W Advocate Anniversary
END:VEVENT
END:VCALENDAR
