BEGIN:VCALENDAR
VERSION:2.0
PRODID:-//gillettevac.com//NONSGML kigkonsult.se iCalcreator 2.30.10//
CALSCALE:GREGORIAN
METHOD:PUBLISH
UID:b98f976b-9126-4fdf-b2a5-a9c2e2488f83
X-WR-CALDESC:
X-WR-RELCALID:9cfcde7bd249b832cd9b59e68be39c3d
X-WR-TIMEZONE:America/Chicago
BEGIN:VTIMEZONE
TZID:America/Chicago
BEGIN:STANDARD
TZNAME:CST
DTSTART:20251102T020000
TZOFFSETFROM:-0500
TZOFFSETTO:-0600
RDATE:20261101T020000
RDATE:20271107T020000
END:STANDARD
BEGIN:DAYLIGHT
TZNAME:CDT
DTSTART:20260308T020000
TZOFFSETFROM:-0600
TZOFFSETTO:-0500
RDATE:20270314T020000
END:DAYLIGHT
END:VTIMEZONE
BEGIN:VEVENT
UID:8bf1ccfe-e47d-467c-997b-ce16dc94e813
DTSTAMP:20260423T125908Z
DESCRIPTION:
DTSTART;TZID=America/Chicago:20260629T050000
DTEND;TZID=America/Chicago:20260629T050001
LOCATION:
SUMMARY:Arrow L Advocate Anniversary
END:VEVENT
END:VCALENDAR
