BEGIN:VCALENDAR
VERSION:2.0
PRODID:-//gillettevac.com//NONSGML kigkonsult.se iCalcreator 2.30.10//
CALSCALE:GREGORIAN
METHOD:PUBLISH
UID:6b5611cc-6721-4a0f-90af-b180b83ca5ac
X-WR-CALDESC:
X-WR-RELCALID:44a6f480c1a3114c718ddc86f75f8c6c
X-WR-TIMEZONE:America/Chicago
BEGIN:VTIMEZONE
TZID:America/Chicago
BEGIN:STANDARD
TZNAME:CST
DTSTART:20251102T020000
TZOFFSETFROM:-0500
TZOFFSETTO:-0600
RDATE:20261101T020000
RDATE:20271107T020000
END:STANDARD
BEGIN:DAYLIGHT
TZNAME:CDT
DTSTART:20260308T020000
TZOFFSETFROM:-0600
TZOFFSETTO:-0500
RDATE:20270314T020000
END:DAYLIGHT
END:VTIMEZONE
BEGIN:VEVENT
UID:14e5768f-f0c9-4504-9240-012f49e82c0c
DTSTAMP:20260423T144036Z
DESCRIPTION:
DTSTART;TZID=America/Chicago:20260703T050000
DTEND;TZID=America/Chicago:20260703T050001
LOCATION:
SUMMARY:Happy Birthday Daniel K!
END:VEVENT
END:VCALENDAR
