BEGIN:VCALENDAR
VERSION:2.0
PRODID:-//gillettevac.com//NONSGML kigkonsult.se iCalcreator 2.30.10//
CALSCALE:GREGORIAN
METHOD:PUBLISH
UID:afde017d-5522-4d0d-858e-a7a5c5afce80
X-WR-CALDESC:
X-WR-RELCALID:422b05ee5e646b5fcfb36ba478fea638
X-WR-TIMEZONE:America/Chicago
BEGIN:VTIMEZONE
TZID:America/Chicago
BEGIN:STANDARD
TZNAME:CST
DTSTART:20251102T020000
TZOFFSETFROM:-0500
TZOFFSETTO:-0600
RDATE:20261101T020000
RDATE:20271107T020000
END:STANDARD
BEGIN:DAYLIGHT
TZNAME:CDT
DTSTART:20260308T020000
TZOFFSETFROM:-0600
TZOFFSETTO:-0500
RDATE:20270314T020000
END:DAYLIGHT
END:VTIMEZONE
BEGIN:VEVENT
UID:d3b7f8c6-d0e9-4578-ba3c-66534f0a512c
DTSTAMP:20260423T150624Z
DESCRIPTION:
DTSTART;TZID=America/Chicago:20260704T000000
DTEND;TZID=America/Chicago:20260704T005900
LOCATION:
SUMMARY:4th of July VAC CLOSED
END:VEVENT
END:VCALENDAR
