BEGIN:VCALENDAR
VERSION:2.0
PRODID:-//gillettevac.com//NONSGML kigkonsult.se iCalcreator 2.30.10//
CALSCALE:GREGORIAN
METHOD:PUBLISH
UID:55c10829-a60a-4e23-9fe9-8235ec2dbfc6
X-WR-CALDESC:
X-WR-RELCALID:29638b5a7b055ddcf67769366662346b
X-WR-TIMEZONE:America/Chicago
BEGIN:VTIMEZONE
TZID:America/Chicago
BEGIN:STANDARD
TZNAME:CST
DTSTART:20251102T020000
TZOFFSETFROM:-0500
TZOFFSETTO:-0600
RDATE:20261101T020000
RDATE:20271107T020000
END:STANDARD
BEGIN:DAYLIGHT
TZNAME:CDT
DTSTART:20260308T020000
TZOFFSETFROM:-0600
TZOFFSETTO:-0500
RDATE:20270314T020000
END:DAYLIGHT
END:VTIMEZONE
BEGIN:VEVENT
UID:dcbbe97c-4b56-4805-9e7b-5c909298bf44
DTSTAMP:20260423T144641Z
DESCRIPTION:
DTSTART;TZID=America/Chicago:20260705T050000
DTEND;TZID=America/Chicago:20260705T050001
LOCATION:
SUMMARY:Happy Birthday Brandi E!
END:VEVENT
END:VCALENDAR
