BEGIN:VCALENDAR
VERSION:2.0
PRODID:-//gillettevac.com//NONSGML kigkonsult.se iCalcreator 2.30.10//
CALSCALE:GREGORIAN
METHOD:PUBLISH
UID:6fb231f9-7f6e-4bc3-afd3-fd937029c7f8
X-WR-CALDESC:
X-WR-RELCALID:910955253624bc65461b00b1ddc3b8f0
X-WR-TIMEZONE:America/Chicago
BEGIN:VTIMEZONE
TZID:America/Chicago
BEGIN:STANDARD
TZNAME:CST
DTSTART:20251102T020000
TZOFFSETFROM:-0500
TZOFFSETTO:-0600
RDATE:20261101T020000
RDATE:20271107T020000
END:STANDARD
BEGIN:DAYLIGHT
TZNAME:CDT
DTSTART:20260308T020000
TZOFFSETFROM:-0600
TZOFFSETTO:-0500
RDATE:20270314T020000
END:DAYLIGHT
END:VTIMEZONE
BEGIN:VEVENT
UID:8c03f530-a56f-4999-b0e6-b3640a99cdd0
DTSTAMP:20260423T150353Z
DESCRIPTION:
DTSTART;TZID=America/Chicago:20260726T050000
DTEND;TZID=America/Chicago:20260726T050001
LOCATION:
SUMMARY:Happy Birthday Regina H!
END:VEVENT
END:VCALENDAR
