BEGIN:VCALENDAR
VERSION:2.0
PRODID:-//gillettevac.com//NONSGML kigkonsult.se iCalcreator 2.30.10//
CALSCALE:GREGORIAN
METHOD:PUBLISH
UID:9e98ac5f-f2e1-4b2e-8936-ef38125a7d84
X-WR-CALDESC:
X-WR-RELCALID:bbb7a729fa0bdba514f5363ef6fa5a75
X-WR-TIMEZONE:America/Chicago
BEGIN:VTIMEZONE
TZID:America/Chicago
BEGIN:STANDARD
TZNAME:CST
DTSTART:20251102T020000
TZOFFSETFROM:-0500
TZOFFSETTO:-0600
RDATE:20261101T020000
RDATE:20271107T020000
END:STANDARD
BEGIN:DAYLIGHT
TZNAME:CDT
DTSTART:20260308T020000
TZOFFSETFROM:-0600
TZOFFSETTO:-0500
RDATE:20270314T020000
END:DAYLIGHT
END:VTIMEZONE
BEGIN:VEVENT
UID:0cf00f57-f149-4c41-9612-20bdfd8b4e19
DTSTAMP:20260423T174636Z
DESCRIPTION:
DTSTART;TZID=America/Chicago:20260801T050000
DTEND;TZID=America/Chicago:20260801T050001
LOCATION:
SUMMARY:Brandi E Staff Anniversary!
END:VEVENT
END:VCALENDAR
