BEGIN:VCALENDAR
VERSION:2.0
PRODID:-//gillettevac.com//NONSGML kigkonsult.se iCalcreator 2.30.10//
CALSCALE:GREGORIAN
METHOD:PUBLISH
UID:aab96d66-f2f2-4353-abca-57f79457d7e7
X-WR-CALDESC:
X-WR-RELCALID:d0a5447715b971297d37eff78268470d
X-WR-TIMEZONE:America/Denver
BEGIN:VTIMEZONE
TZID:America/Denver
BEGIN:STANDARD
TZNAME:MST
DTSTART:20251102T020000
TZOFFSETFROM:-0600
TZOFFSETTO:-0700
RDATE:20261101T020000
RDATE:20271107T020000
END:STANDARD
BEGIN:DAYLIGHT
TZNAME:MDT
DTSTART:20260308T020000
TZOFFSETFROM:-0700
TZOFFSETTO:-0600
RDATE:20270314T020000
END:DAYLIGHT
END:VTIMEZONE
BEGIN:VEVENT
UID:2ddc3e68-d50b-4672-a900-48e5d836e7fa
DTSTAMP:20260423T161011Z
DESCRIPTION:
DTSTART;TZID=America/Denver:20260814T040000
DTEND;TZID=America/Denver:20260814T040001
LOCATION:
SUMMARY:5th Annual Cinema Under the Stars
END:VEVENT
END:VCALENDAR
