BEGIN:VCALENDAR
VERSION:2.0
PRODID:-//gillettevac.com//NONSGML kigkonsult.se iCalcreator 2.30.10//
CALSCALE:GREGORIAN
METHOD:PUBLISH
UID:6b5fca8a-c442-4e7a-b997-e05e3fc7d590
X-WR-CALDESC:
X-WR-RELCALID:ea06ebc1d828d4b3fecaf81b0131374c
X-WR-TIMEZONE:America/Chicago
BEGIN:VTIMEZONE
TZID:America/Chicago
BEGIN:STANDARD
TZNAME:CST
DTSTART:20251102T020000
TZOFFSETFROM:-0500
TZOFFSETTO:-0600
RDATE:20261101T020000
RDATE:20271107T020000
END:STANDARD
BEGIN:DAYLIGHT
TZNAME:CDT
DTSTART:20260308T020000
TZOFFSETFROM:-0600
TZOFFSETTO:-0500
RDATE:20270314T020000
END:DAYLIGHT
END:VTIMEZONE
BEGIN:VEVENT
UID:eeb1878b-db67-403a-b077-a1e1a7ed70ac
DTSTAMP:20260423T174202Z
DESCRIPTION:
DTSTART;TZID=America/Chicago:20260820T050000
DTEND;TZID=America/Chicago:20260820T050001
LOCATION:
SUMMARY:Happy Birthday Carissa P!
END:VEVENT
END:VCALENDAR
