BEGIN:VCALENDAR
VERSION:2.0
PRODID:-//gillettevac.com//NONSGML kigkonsult.se iCalcreator 2.30.10//
CALSCALE:GREGORIAN
METHOD:PUBLISH
UID:2a3f9e5e-8ad4-4311-b40e-507ad228b3c6
X-WR-CALDESC:
X-WR-RELCALID:364086b947e9acff78fdda79b046e97a
X-WR-TIMEZONE:America/Chicago
BEGIN:VTIMEZONE
TZID:America/Chicago
BEGIN:STANDARD
TZNAME:CST
DTSTART:20251102T020000
TZOFFSETFROM:-0500
TZOFFSETTO:-0600
RDATE:20261101T020000
RDATE:20271107T020000
END:STANDARD
BEGIN:DAYLIGHT
TZNAME:CDT
DTSTART:20260308T020000
TZOFFSETFROM:-0600
TZOFFSETTO:-0500
RDATE:20270314T020000
END:DAYLIGHT
END:VTIMEZONE
BEGIN:VEVENT
UID:1c5f3622-ed1b-4db2-80d3-2a474824ec8b
DTSTAMP:20260423T161705Z
DESCRIPTION:
DTSTART;TZID=America/Chicago:20260822T050000
DTEND;TZID=America/Chicago:20260822T050001
LOCATION:
SUMMARY:Nicole Z Advocate Anniversary!
END:VEVENT
END:VCALENDAR
