BEGIN:VCALENDAR
VERSION:2.0
PRODID:-//gillettevac.com//NONSGML kigkonsult.se iCalcreator 2.30.10//
CALSCALE:GREGORIAN
METHOD:PUBLISH
UID:f519b978-8cb5-41c2-85e5-1b1ffbc83326
X-WR-CALDESC:
X-WR-RELCALID:041f3f9d5225cae4990bb36b24678a11
X-WR-TIMEZONE:America/Denver
BEGIN:VTIMEZONE
TZID:America/Denver
BEGIN:STANDARD
TZNAME:MST
DTSTART:20251102T020000
TZOFFSETFROM:-0600
TZOFFSETTO:-0700
RDATE:20261101T020000
RDATE:20271107T020000
END:STANDARD
BEGIN:DAYLIGHT
TZNAME:MDT
DTSTART:20260308T020000
TZOFFSETFROM:-0700
TZOFFSETTO:-0600
RDATE:20270314T020000
END:DAYLIGHT
END:VTIMEZONE
BEGIN:VEVENT
UID:83f14743-9d94-432d-8863-56ff8e9820d3
DTSTAMP:20260423T162206Z
DESCRIPTION:
DTSTART;TZID=America/Denver:20260830T040000
DTEND;TZID=America/Denver:20260830T040001
LOCATION:
SUMMARY:Happy Birthday Mickaylia H!
END:VEVENT
END:VCALENDAR
