BEGIN:VCALENDAR
VERSION:2.0
PRODID:-//gillettevac.com//NONSGML kigkonsult.se iCalcreator 2.30.10//
CALSCALE:GREGORIAN
METHOD:PUBLISH
UID:23bafd78-365e-4c22-b3f3-ca759a753bb8
X-WR-CALDESC:
X-WR-RELCALID:41be85d48e6426cf6f41138a5ef37235
X-WR-TIMEZONE:America/Chicago
BEGIN:VTIMEZONE
TZID:America/Chicago
BEGIN:STANDARD
TZNAME:CST
DTSTART:20251102T020000
TZOFFSETFROM:-0500
TZOFFSETTO:-0600
RDATE:20261101T020000
RDATE:20271107T020000
END:STANDARD
BEGIN:DAYLIGHT
TZNAME:CDT
DTSTART:20260308T020000
TZOFFSETFROM:-0600
TZOFFSETTO:-0500
RDATE:20270314T020000
END:DAYLIGHT
END:VTIMEZONE
BEGIN:VEVENT
UID:b57276d9-ec48-4380-be3a-c30bbb5d2b74
DTSTAMP:20260423T173105Z
DESCRIPTION:
DTSTART;TZID=America/Chicago:20260905T050000
DTEND;TZID=America/Chicago:20260905T050001
LOCATION:
SUMMARY:Happy Birthday Rich H!
END:VEVENT
END:VCALENDAR
