BEGIN:VCALENDAR
VERSION:2.0
PRODID:-//gillettevac.com//NONSGML kigkonsult.se iCalcreator 2.30.10//
CALSCALE:GREGORIAN
METHOD:PUBLISH
UID:49a3fe38-4593-452d-bdd6-7d0224f3fd75
X-WR-CALDESC:
X-WR-RELCALID:a79178eb716b40e309e6e9a6d5670aa2
X-WR-TIMEZONE:America/Chicago
BEGIN:VTIMEZONE
TZID:America/Chicago
BEGIN:STANDARD
TZNAME:CST
DTSTART:20251102T020000
TZOFFSETFROM:-0500
TZOFFSETTO:-0600
RDATE:20261101T020000
RDATE:20271107T020000
END:STANDARD
BEGIN:DAYLIGHT
TZNAME:CDT
DTSTART:20260308T020000
TZOFFSETFROM:-0600
TZOFFSETTO:-0500
RDATE:20270314T020000
RDATE:20280312T020000
END:DAYLIGHT
END:VTIMEZONE
BEGIN:VEVENT
UID:4d47905a-8d58-484b-87d1-163772605ae2
DTSTAMP:20260423T192809Z
DESCRIPTION:
DTSTART;TZID=America/Chicago:20260924T050000
DTEND;TZID=America/Chicago:20260924T050001
LOCATION:
SUMMARY:Happy Birthday Stef C!
END:VEVENT
END:VCALENDAR
