BEGIN:VCALENDAR
VERSION:2.0
PRODID:-//gillettevac.com//NONSGML kigkonsult.se iCalcreator 2.30.10//
CALSCALE:GREGORIAN
METHOD:PUBLISH
UID:ffb8c2b2-57cb-4d77-837a-d3aec26eb6e4
X-WR-CALDESC:
X-WR-RELCALID:b17e0bce1f09a9d5be76eda85f7ce81a
X-WR-TIMEZONE:America/Chicago
BEGIN:VTIMEZONE
TZID:America/Chicago
BEGIN:STANDARD
TZNAME:CST
DTSTART:20251102T020000
TZOFFSETFROM:-0500
TZOFFSETTO:-0600
RDATE:20261101T020000
RDATE:20271107T020000
END:STANDARD
BEGIN:DAYLIGHT
TZNAME:CDT
DTSTART:20260308T020000
TZOFFSETFROM:-0600
TZOFFSETTO:-0500
RDATE:20270314T020000
RDATE:20280312T020000
END:DAYLIGHT
END:VTIMEZONE
BEGIN:VEVENT
UID:3f388d16-59a3-4dcc-a19c-aeae5b0f5269
DTSTAMP:20260423T174631Z
DESCRIPTION:
DTSTART;TZID=America/Chicago:20260925T050000
DTEND;TZID=America/Chicago:20260925T050001
LOCATION:
SUMMARY:Happy Birthday Shannon M!
END:VEVENT
END:VCALENDAR
