BEGIN:VCALENDAR
VERSION:2.0
PRODID:-//gillettevac.com//NONSGML kigkonsult.se iCalcreator 2.30.10//
CALSCALE:GREGORIAN
METHOD:PUBLISH
UID:040db6d4-9c84-432d-a722-fa0ef6620f34
X-WR-CALDESC:
X-WR-RELCALID:c31efd1e58473f2bb93c0a92173fc748
X-WR-TIMEZONE:America/Denver
BEGIN:VTIMEZONE
TZID:America/Denver
BEGIN:STANDARD
TZNAME:MST
DTSTART:20251102T020000
TZOFFSETFROM:-0600
TZOFFSETTO:-0700
RDATE:20261101T020000
RDATE:20271107T020000
END:STANDARD
BEGIN:DAYLIGHT
TZNAME:MDT
DTSTART:20260308T020000
TZOFFSETFROM:-0700
TZOFFSETTO:-0600
RDATE:20270314T020000
RDATE:20280312T020000
END:DAYLIGHT
END:VTIMEZONE
BEGIN:VEVENT
UID:ab5b308f-132a-4e28-89dd-74bdbd2172fc
DTSTAMP:20260423T173423Z
DESCRIPTION:
DTSTART;TZID=America/Denver:20260928T040000
DTEND;TZID=America/Denver:20260928T040001
LOCATION:
SUMMARY:Kim K's Advocate Anniversary
END:VEVENT
END:VCALENDAR
