BEGIN:VCALENDAR
VERSION:2.0
PRODID:-//gillettevac.com//NONSGML kigkonsult.se iCalcreator 2.30.10//
CALSCALE:GREGORIAN
METHOD:PUBLISH
UID:ed8d29ac-43cb-456b-b9aa-3b30cd59f60f
X-WR-CALDESC:
X-WR-RELCALID:7f3d0078e51b750b8d59b239cccbf42c
X-WR-TIMEZONE:America/Chicago
BEGIN:VTIMEZONE
TZID:America/Chicago
BEGIN:STANDARD
TZNAME:CST
DTSTART:20251102T020000
TZOFFSETFROM:-0500
TZOFFSETTO:-0600
RDATE:20261101T020000
RDATE:20271107T020000
END:STANDARD
BEGIN:DAYLIGHT
TZNAME:CDT
DTSTART:20260308T020000
TZOFFSETFROM:-0600
TZOFFSETTO:-0500
RDATE:20270314T020000
RDATE:20280312T020000
END:DAYLIGHT
END:VTIMEZONE
BEGIN:VEVENT
UID:012c6c93-221f-4bc4-91cd-37f9672935be
DTSTAMP:20260423T190331Z
DESCRIPTION:
DTSTART;TZID=America/Chicago:20261017T050000
DTEND;TZID=America/Chicago:20261017T050001
LOCATION:
SUMMARY:Brealyn T Advocate Anniversary
END:VEVENT
END:VCALENDAR
