BEGIN:VCALENDAR
VERSION:2.0
PRODID:-//gillettevac.com//NONSGML kigkonsult.se iCalcreator 2.30.10//
CALSCALE:GREGORIAN
METHOD:PUBLISH
UID:e4827e9c-8778-4c1d-80cc-cdcdb8bf5471
X-WR-CALDESC:
X-WR-RELCALID:2fdd1e8557fcdfd847b5ec6dbdfc5006
X-WR-TIMEZONE:America/Chicago
BEGIN:VTIMEZONE
TZID:America/Chicago
BEGIN:STANDARD
TZNAME:CST
DTSTART:20251102T020000
TZOFFSETFROM:-0500
TZOFFSETTO:-0600
RDATE:20261101T020000
RDATE:20271107T020000
END:STANDARD
BEGIN:DAYLIGHT
TZNAME:CDT
DTSTART:20260308T020000
TZOFFSETFROM:-0600
TZOFFSETTO:-0500
RDATE:20270314T020000
RDATE:20280312T020000
END:DAYLIGHT
END:VTIMEZONE
BEGIN:VEVENT
UID:ade94dcd-7e42-4848-ba1e-236f45f6f7d7
DTSTAMP:20260423T190911Z
DESCRIPTION:
DTSTART;TZID=America/Chicago:20261024T050000
DTEND;TZID=America/Chicago:20261024T050001
LOCATION:
SUMMARY:Happy Birthday Michelle H!
END:VEVENT
END:VCALENDAR
