BEGIN:VCALENDAR
VERSION:2.0
PRODID:-//gillettevac.com//NONSGML kigkonsult.se iCalcreator 2.30.10//
CALSCALE:GREGORIAN
METHOD:PUBLISH
UID:a7e9d32f-9f29-45b6-a6b5-940e75f96196
X-WR-CALDESC:
X-WR-RELCALID:e42a60d47dec367e4f9cd09a81a77163
X-WR-TIMEZONE:America/Chicago
BEGIN:VTIMEZONE
TZID:America/Chicago
BEGIN:STANDARD
TZNAME:CST
DTSTART:20251102T020000
TZOFFSETFROM:-0500
TZOFFSETTO:-0600
RDATE:20261101T020000
RDATE:20271107T020000
END:STANDARD
BEGIN:DAYLIGHT
TZNAME:CDT
DTSTART:20260308T020000
TZOFFSETFROM:-0600
TZOFFSETTO:-0500
RDATE:20270314T020000
RDATE:20280312T020000
END:DAYLIGHT
END:VTIMEZONE
BEGIN:VEVENT
UID:cb46ed1b-ffeb-475a-b4ab-80427516cee9
DTSTAMP:20260423T190602Z
DESCRIPTION:
DTSTART;TZID=America/Chicago:20261027T000000
DTEND;TZID=America/Chicago:20261027T235900
LOCATION:
SUMMARY:Happy Birthday Kathy H!
END:VEVENT
END:VCALENDAR
