BEGIN:VCALENDAR
VERSION:2.0
PRODID:-//gillettevac.com//NONSGML kigkonsult.se iCalcreator 2.30.10//
CALSCALE:GREGORIAN
METHOD:PUBLISH
UID:428ab847-559b-42a4-becb-6d55d1586b44
X-WR-CALDESC:
X-WR-RELCALID:cc075b9f41c8413ab47e60e072a4b529
X-WR-TIMEZONE:America/Chicago
BEGIN:VTIMEZONE
TZID:America/Chicago
BEGIN:STANDARD
TZNAME:CST
DTSTART:20251102T020000
TZOFFSETFROM:-0500
TZOFFSETTO:-0600
RDATE:20261101T020000
RDATE:20271107T020000
END:STANDARD
BEGIN:DAYLIGHT
TZNAME:CDT
DTSTART:20260308T020000
TZOFFSETFROM:-0600
TZOFFSETTO:-0500
RDATE:20270314T020000
RDATE:20280312T020000
END:DAYLIGHT
END:VTIMEZONE
BEGIN:VEVENT
UID:e496911f-c9ee-463d-a891-cea021306cb2
DTSTAMP:20260423T190957Z
DESCRIPTION:
DTSTART;TZID=America/Chicago:20261030T050000
DTEND;TZID=America/Chicago:20261030T050001
LOCATION:
SUMMARY:Happy Birthday Kyla U!
END:VEVENT
END:VCALENDAR
