BEGIN:VCALENDAR
VERSION:2.0
PRODID:-//gillettevac.com//NONSGML kigkonsult.se iCalcreator 2.30.10//
CALSCALE:GREGORIAN
METHOD:PUBLISH
UID:05733489-dba5-4b0b-bc50-a028bf7ce774
X-WR-CALDESC:
X-WR-RELCALID:3bd2508ef0df7dff41896e77f60b0808
X-WR-TIMEZONE:America/Chicago
BEGIN:VTIMEZONE
TZID:America/Chicago
BEGIN:STANDARD
TZNAME:CST
DTSTART:20261101T020000
TZOFFSETFROM:-0500
TZOFFSETTO:-0600
RDATE:20271107T020000
END:STANDARD
BEGIN:DAYLIGHT
TZNAME:CDT
DTSTART:20260308T020000
TZOFFSETFROM:-0600
TZOFFSETTO:-0500
RDATE:20270314T020000
RDATE:20280312T020000
END:DAYLIGHT
END:VTIMEZONE
BEGIN:VEVENT
UID:3661efb2-1ccd-4023-be4f-92f530f7984b
DTSTAMP:20260423T205543Z
DESCRIPTION:
DTSTART;TZID=America/Chicago:20261108T050000
DTEND;TZID=America/Chicago:20261108T050001
LOCATION:
SUMMARY:Carrie M Staff Anniversary
END:VEVENT
END:VCALENDAR
