BEGIN:VCALENDAR
VERSION:2.0
PRODID:-//gillettevac.com//NONSGML kigkonsult.se iCalcreator 2.30.10//
CALSCALE:GREGORIAN
METHOD:PUBLISH
UID:bf28a686-14a7-4bef-b9c0-3de5e3a4f01b
X-WR-CALDESC:
X-WR-RELCALID:5bf7099cb3473a6328e201ece609f15e
X-WR-TIMEZONE:America/Chicago
BEGIN:VTIMEZONE
TZID:America/Chicago
BEGIN:STANDARD
TZNAME:CST
DTSTART:20261101T020000
TZOFFSETFROM:-0500
TZOFFSETTO:-0600
RDATE:20271107T020000
END:STANDARD
BEGIN:DAYLIGHT
TZNAME:CDT
DTSTART:20260308T020000
TZOFFSETFROM:-0600
TZOFFSETTO:-0500
RDATE:20270314T020000
RDATE:20280312T020000
END:DAYLIGHT
END:VTIMEZONE
BEGIN:VEVENT
UID:aab002e3-2e95-487f-8288-6ab0ef82def5
DTSTAMP:20260423T211737Z
DESCRIPTION:
DTSTART;TZID=America/Chicago:20261114T050000
DTEND;TZID=America/Chicago:20261114T050001
LOCATION:
SUMMARY:Happy Birthday Kay G!
END:VEVENT
END:VCALENDAR
