BEGIN:VCALENDAR
VERSION:2.0
PRODID:-//gillettevac.com//NONSGML kigkonsult.se iCalcreator 2.30.10//
CALSCALE:GREGORIAN
METHOD:PUBLISH
UID:0990c462-2dec-492c-863c-a426a5905d36
X-WR-CALDESC:
X-WR-RELCALID:ace771d5fe339b4d7ec431c03e43f295
X-WR-TIMEZONE:America/Chicago
BEGIN:VTIMEZONE
TZID:America/Chicago
BEGIN:STANDARD
TZNAME:CST
DTSTART:20261101T020000
TZOFFSETFROM:-0500
TZOFFSETTO:-0600
RDATE:20271107T020000
END:STANDARD
BEGIN:DAYLIGHT
TZNAME:CDT
DTSTART:20260308T020000
TZOFFSETFROM:-0600
TZOFFSETTO:-0500
RDATE:20270314T020000
RDATE:20280312T020000
END:DAYLIGHT
END:VTIMEZONE
BEGIN:VEVENT
UID:9dceb01f-fb52-425b-bc3f-790e552d35df
DTSTAMP:20260423T204909Z
DESCRIPTION:
DTSTART;TZID=America/Chicago:20261114T050000
DTEND;TZID=America/Chicago:20261114T050001
LOCATION:
SUMMARY:Hoby B Advocate Anniversary!
END:VEVENT
END:VCALENDAR
