BEGIN:VCALENDAR
VERSION:2.0
PRODID:-//gillettevac.com//NONSGML kigkonsult.se iCalcreator 2.30.10//
CALSCALE:GREGORIAN
METHOD:PUBLISH
UID:0d09c2c0-ec33-4299-bb9d-f0054e23021f
X-WR-CALDESC:
X-WR-RELCALID:a41d073a2471484e1627177326ef6558
X-WR-TIMEZONE:America/Chicago
BEGIN:VTIMEZONE
TZID:America/Chicago
BEGIN:STANDARD
TZNAME:CST
DTSTART:20261101T020000
TZOFFSETFROM:-0500
TZOFFSETTO:-0600
RDATE:20271107T020000
END:STANDARD
BEGIN:DAYLIGHT
TZNAME:CDT
DTSTART:20260308T020000
TZOFFSETFROM:-0600
TZOFFSETTO:-0500
RDATE:20270314T020000
RDATE:20280312T020000
END:DAYLIGHT
END:VTIMEZONE
BEGIN:VEVENT
UID:3a2ec10a-9ef4-418c-8cd8-d97296550451
DTSTAMP:20260423T224028Z
DESCRIPTION:
DTSTART;TZID=America/Chicago:20261216T000000
DTEND;TZID=America/Chicago:20261216T235900
LOCATION:
SUMMARY:Happy Birthday Alan!
END:VEVENT
END:VCALENDAR
