BEGIN:VCALENDAR
VERSION:2.0
PRODID:-//gillettevac.com//NONSGML kigkonsult.se iCalcreator 2.30.10//
CALSCALE:GREGORIAN
METHOD:PUBLISH
UID:58ed4be5-9c7e-4f78-825e-2c2869392a40
X-WR-CALDESC:
X-WR-RELCALID:19e14875ea7bf2535f37245b35ea35da
X-WR-TIMEZONE:America/Chicago
BEGIN:VTIMEZONE
TZID:America/Chicago
BEGIN:STANDARD
TZNAME:CST
DTSTART:20261101T020000
TZOFFSETFROM:-0500
TZOFFSETTO:-0600
RDATE:20271107T020000
END:STANDARD
BEGIN:DAYLIGHT
TZNAME:CDT
DTSTART:20260308T020000
TZOFFSETFROM:-0600
TZOFFSETTO:-0500
RDATE:20270314T020000
RDATE:20280312T020000
END:DAYLIGHT
END:VTIMEZONE
BEGIN:VEVENT
UID:d7034fe5-4e7d-4deb-aba0-3a73a3138e40
DTSTAMP:20260423T224206Z
DESCRIPTION:
DTSTART;TZID=America/Chicago:20261225T000000
DTEND;TZID=America/Chicago:20261225T235900
LOCATION:
SUMMARY:Christmas- VAC Closed
END:VEVENT
END:VCALENDAR
