BEGIN:VCALENDAR
VERSION:2.0
PRODID:-//gillettevac.com//NONSGML kigkonsult.se iCalcreator 2.30.10//
CALSCALE:GREGORIAN
METHOD:PUBLISH
UID:7b69ec05-fcc6-42cc-bb0b-88618ca21153
X-WR-CALDESC:
X-WR-RELCALID:0b39c6153fe78140eae678e9fc313e45
X-WR-TIMEZONE:America/Chicago
BEGIN:VTIMEZONE
TZID:America/Chicago
BEGIN:STANDARD
TZNAME:CST
DTSTART:20261101T020000
TZOFFSETFROM:-0500
TZOFFSETTO:-0600
RDATE:20271107T020000
END:STANDARD
BEGIN:DAYLIGHT
TZNAME:CDT
DTSTART:20260308T020000
TZOFFSETFROM:-0600
TZOFFSETTO:-0500
RDATE:20270314T020000
RDATE:20280312T020000
END:DAYLIGHT
END:VTIMEZONE
BEGIN:VEVENT
UID:04ba32db-4861-48a8-9761-4eb3e78c74fa
DTSTAMP:20260423T222802Z
DESCRIPTION:
DTSTART;TZID=America/Chicago:20261231T000000
DTEND;TZID=America/Chicago:20261231T235900
LOCATION:
SUMMARY:New Year's Eve
END:VEVENT
END:VCALENDAR
