BEGIN:VCALENDAR
VERSION:2.0
PRODID:-//gillettevac.com//NONSGML kigkonsult.se iCalcreator 2.30.10//
CALSCALE:GREGORIAN
METHOD:PUBLISH
UID:f391cc40-a557-4f4f-8058-a4d90707b4e8
X-WR-CALDESC:
X-WR-RELCALID:9bd6a2ea8ed2fcf753b7cdcc0a5185c1
X-WR-TIMEZONE:America/Chicago
BEGIN:VTIMEZONE
TZID:America/Chicago
BEGIN:STANDARD
TZNAME:CST
DTSTART:20261101T020000
TZOFFSETFROM:-0500
TZOFFSETTO:-0600
RDATE:20271107T020000
END:STANDARD
BEGIN:DAYLIGHT
TZNAME:CDT
DTSTART:20260308T020000
TZOFFSETFROM:-0600
TZOFFSETTO:-0500
RDATE:20270314T020000
RDATE:20280312T020000
END:DAYLIGHT
END:VTIMEZONE
BEGIN:VEVENT
UID:8e77ff2c-c617-479a-b83e-b7e21381b7fe
DTSTAMP:20260423T222628Z
DESCRIPTION:
DTSTART;TZID=America/Chicago:20261231T050000
DTEND;TZID=America/Chicago:20261231T050001
LOCATION:
SUMMARY:Happy Birthday Carrie M!
END:VEVENT
END:VCALENDAR
