BEGIN:VCALENDAR
VERSION:2.0
PRODID:-//gillettevac.com//NONSGML kigkonsult.se iCalcreator 2.30.10//
CALSCALE:GREGORIAN
METHOD:PUBLISH
UID:164664e8-7bd5-4f3e-92cd-3d6b6eab4212
X-WR-CALDESC:
X-WR-RELCALID:796e2ac5b9de8f8b35750cf33d450ce1
X-WR-TIMEZONE:America/Chicago
BEGIN:VTIMEZONE
TZID:America/Chicago
BEGIN:STANDARD
TZNAME:CST
DTSTART:20261101T020000
TZOFFSETFROM:-0500
TZOFFSETTO:-0600
RDATE:20271107T020000
END:STANDARD
BEGIN:DAYLIGHT
TZNAME:CDT
DTSTART:20260308T020000
TZOFFSETFROM:-0600
TZOFFSETTO:-0500
RDATE:20270314T020000
RDATE:20280312T020000
END:DAYLIGHT
END:VTIMEZONE
BEGIN:VEVENT
UID:7058bff5-5157-40e6-a61c-8307e93982b1
DTSTAMP:20260424T000808Z
DESCRIPTION:
DTSTART;TZID=America/Chicago:20270107T050000
DTEND;TZID=America/Chicago:20270107T050001
LOCATION:
SUMMARY:Happy Birthday Carolyn S!
END:VEVENT
END:VCALENDAR
