BEGIN:VCALENDAR
VERSION:2.0
PRODID:-//gillettevac.com//NONSGML kigkonsult.se iCalcreator 2.30.10//
CALSCALE:GREGORIAN
METHOD:PUBLISH
UID:51923476-925e-4e7a-9ed5-c80b478a27d1
X-WR-CALDESC:
X-WR-RELCALID:2c4b0e0a1a7237f5df35f95883839c98
X-WR-TIMEZONE:America/Chicago
BEGIN:VTIMEZONE
TZID:America/Chicago
BEGIN:STANDARD
TZNAME:CST
DTSTART:20261101T020000
TZOFFSETFROM:-0500
TZOFFSETTO:-0600
RDATE:20271107T020000
END:STANDARD
BEGIN:DAYLIGHT
TZNAME:CDT
DTSTART:20260308T020000
TZOFFSETFROM:-0600
TZOFFSETTO:-0500
RDATE:20270314T020000
RDATE:20280312T020000
END:DAYLIGHT
END:VTIMEZONE
BEGIN:VEVENT
UID:ab94be83-c358-4855-aa26-b6503e26e2fc
DTSTAMP:20260424T003451Z
DESCRIPTION:
DTSTART;TZID=America/Chicago:20270110T050000
DTEND;TZID=America/Chicago:20270110T050001
LOCATION:
SUMMARY:Happy Birthday Risty B!
END:VEVENT
END:VCALENDAR
